BEGIN:VCALENDAR
VERSION:2.0
PRODID:-//Lifestream Church Rosario - ECPv6.15.20//NONSGML v1.0//EN
CALSCALE:GREGORIAN
METHOD:PUBLISH
X-ORIGINAL-URL:https://lifestreamrosario.org
X-WR-CALDESC:Events for Lifestream Church Rosario
REFRESH-INTERVAL;VALUE=DURATION:PT1H
X-Robots-Tag:noindex
X-PUBLISHED-TTL:PT1H
BEGIN:VTIMEZONE
TZID:Asia/Manila
BEGIN:STANDARD
TZOFFSETFROM:+0800
TZOFFSETTO:+0800
TZNAME:PST
DTSTART:20250101T000000
END:STANDARD
END:VTIMEZONE
BEGIN:VEVENT
DTSTART;TZID=Asia/Manila:20260528T060000
DTEND;TZID=Asia/Manila:20260530T130000
DTSTAMP:20260423T221552
CREATED:20260422T133529Z
LAST-MODIFIED:20260422T133529Z
UID:645-1779948000-1780146000@lifestreamrosario.org
SUMMARY:ID: In Christ Defined — Life Youth Camp 2026
DESCRIPTION:ID: In Christ Defined — Life Youth Camp 2026 \nLife Youth\, the youth ministry of Lifestream Church\, invites you to be part of an exciting and life-changing experience at our upcoming Youth Camp 2026! With the theme “ID: In Christ Defined\,” this three-day camp is designed to help young people discover their true identity in Christ and grow deeper in their faith. \nHappening on May 28–30\, 2026\, at Saint Isidore National High School in San Isidro\, Rosario\, Batangas\, this camp will feature powerful messages\, meaningful worship\, fun activities\, and opportunities to build lasting friendships with fellow youth. \nWhether you are seeking direction\, community\, or a deeper relationship with God\, this camp is a place where you can be refreshed\, encouraged\, and transformed. \nThe registration fee is ₱500\, which covers camp materials and other essentials. \nDon’t miss this opportunity to be part of what God is doing in this generation! \n👉 Register now: youthcamp2026.lifestreamrosario.org
URL:https://lifestreamrosario.org/event/youthcamp2026/
LOCATION:The Saint Isidore National High School\, San Isidro\, Rosario\, Batangas\, 4225\, Philippines
ATTACH;FMTTYPE=image/jpeg:https://lifestreamrosario.org/wp-content/uploads/2026/04/Youth-Camp-2026-In-Christ-Defined-scaled.jpg
ORGANIZER;CN="Lifestream Church Rosario":MAILTO:lifestreamrosario@gmail.com
END:VEVENT
END:VCALENDAR